BEGIN:VCALENDAR
VERSION:2.0
PRODID:-//THREEDOM - die Band für dein Event//NONSGML kigkonsult.se iCalcreator 2.41.92//
CALSCALE:GREGORIAN
METHOD:PUBLISH
UID:36653162-3966-4639-b566-656262653936
X-WR-CALNAME:iCagenda
X-WR-CALDESC:Event Management Extension for Joomla!
X-WR-RELCALID:3E26604A-50F4-4449-8B3E-E4F4932D05B5
X-WR-TIMEZONE:UTC
BEGIN:VTIMEZONE
TZID:UTC
END:VTIMEZONE
BEGIN:VEVENT
UID:64623761-3131-4333-b661-316435646430
DTSTAMP:20260421T163706Z
CATEGORIES:Veranstaltungen
CLASS:PUBLIC
DESCRIPTION;ALTREP="CID:<FFFF__=0ABBE548DFE235B58f9e8a93d@coffeebean.com>":
 THREEDOM ausnahmsweise zu zweit.
DTSTART:20260430T200000Z
DTEND:20260501T010000Z
GEO:+51.838646;+6.612227
LOCATION:Rolli's
ORGANIZER:
SEQUENCE:1
SUMMARY:THREEDOM LIVE als Duo in Bocholt
TRANSP:OPAQUE
URL:https://threedom-band.de/termine/aktuelle-termine/threedom-live-als-duo
 -in-bocholt
END:VEVENT
END:VCALENDAR
